BEGIN:VCALENDAR
VERSION:2.0
PRODID:-//Asian Americans Advancing Justice Southern California - ECPv6.15.20//NONSGML v1.0//EN
CALSCALE:GREGORIAN
METHOD:PUBLISH
X-WR-CALNAME:Asian Americans Advancing Justice Southern California
X-ORIGINAL-URL:https://ajsocal.org
X-WR-CALDESC:Events for Asian Americans Advancing Justice Southern California
REFRESH-INTERVAL;VALUE=DURATION:PT1H
X-Robots-Tag:noindex
X-PUBLISHED-TTL:PT1H
BEGIN:VTIMEZONE
TZID:America/Los_Angeles
BEGIN:DAYLIGHT
TZOFFSETFROM:-0800
TZOFFSETTO:-0700
TZNAME:PDT
DTSTART:20210314T100000
END:DAYLIGHT
BEGIN:STANDARD
TZOFFSETFROM:-0700
TZOFFSETTO:-0800
TZNAME:PST
DTSTART:20211107T090000
END:STANDARD
BEGIN:DAYLIGHT
TZOFFSETFROM:-0800
TZOFFSETTO:-0700
TZNAME:PDT
DTSTART:20220313T100000
END:DAYLIGHT
BEGIN:STANDARD
TZOFFSETFROM:-0700
TZOFFSETTO:-0800
TZNAME:PST
DTSTART:20221106T090000
END:STANDARD
BEGIN:DAYLIGHT
TZOFFSETFROM:-0800
TZOFFSETTO:-0700
TZNAME:PDT
DTSTART:20230312T100000
END:DAYLIGHT
BEGIN:STANDARD
TZOFFSETFROM:-0700
TZOFFSETTO:-0800
TZNAME:PST
DTSTART:20231105T090000
END:STANDARD
END:VTIMEZONE
BEGIN:VEVENT
DTSTART;TZID=America/Los_Angeles:20220521T110000
DTEND;TZID=America/Los_Angeles:20220521T150000
DTSTAMP:20260425T042906
CREATED:20220420T193004Z
LAST-MODIFIED:20220420T193004Z
UID:10000713-1653130800-1653145200@ajsocal.org
SUMMARY:South Pasadena Chinese-American Club (SPCC) AAPI Heritage Month Celebration!
DESCRIPTION:The South Pasadena Chinese-American Club (SPCC) and the City of South Pasadena are proud to host AAPI Heritage Month Celebration! Featuring Ativity Booths\, Entertainment\, Food and Drink\, Demos\, Art Installation\, lots of cultural celebrations and more! Free event! For more information\, email spcc91030@gmail.com .
URL:https://ajsocal.org/event/south-pasadena-chinese-american-club-spcc-aapi-heritage-month-celebration/
LOCATION:Garfield Park\, 1000 Park Avenue.\, South Pasadena\, 91030
CATEGORIES:Community
ATTACH;FMTTYPE=image/png:https://ajsocal.org/wp-content/uploads/2022/04/Screen-Shot-2022-04-20-at-12.28.48-PM.png
END:VEVENT
END:VCALENDAR