BEGIN:VCALENDAR
VERSION:2.0
PRODID:-//Asian Americans Advancing Justice Southern California - ECPv6.15.20//NONSGML v1.0//EN
CALSCALE:GREGORIAN
METHOD:PUBLISH
X-WR-CALNAME:Asian Americans Advancing Justice Southern California
X-ORIGINAL-URL:https://ajsocal.org
X-WR-CALDESC:Events for Asian Americans Advancing Justice Southern California
REFRESH-INTERVAL;VALUE=DURATION:PT1H
X-Robots-Tag:noindex
X-PUBLISHED-TTL:PT1H
BEGIN:VTIMEZONE
TZID:America/Los_Angeles
BEGIN:DAYLIGHT
TZOFFSETFROM:-0800
TZOFFSETTO:-0700
TZNAME:PDT
DTSTART:20250309T100000
END:DAYLIGHT
BEGIN:STANDARD
TZOFFSETFROM:-0700
TZOFFSETTO:-0800
TZNAME:PST
DTSTART:20251102T090000
END:STANDARD
BEGIN:DAYLIGHT
TZOFFSETFROM:-0800
TZOFFSETTO:-0700
TZNAME:PDT
DTSTART:20260308T100000
END:DAYLIGHT
BEGIN:STANDARD
TZOFFSETFROM:-0700
TZOFFSETTO:-0800
TZNAME:PST
DTSTART:20261101T090000
END:STANDARD
BEGIN:DAYLIGHT
TZOFFSETFROM:-0800
TZOFFSETTO:-0700
TZNAME:PDT
DTSTART:20270314T100000
END:DAYLIGHT
BEGIN:STANDARD
TZOFFSETFROM:-0700
TZOFFSETTO:-0800
TZNAME:PST
DTSTART:20271107T090000
END:STANDARD
END:VTIMEZONE
BEGIN:VEVENT
DTSTART;TZID=America/Los_Angeles:20260131T100000
DTEND;TZID=America/Los_Angeles:20260201T190000
DTSTAMP:20260420T104358
CREATED:20260128T202946Z
LAST-MODIFIED:20260128T202951Z
UID:10006926-1769853600-1769972400@ajsocal.org
SUMMARY:2026 Monterey Park Lunar New Year Festival
DESCRIPTION:AJSOCAL will be tabling at the Monterey Park Lunar New Year Festival on Friday 1/31/26 to Saturday 2/1/26.
URL:https://ajsocal.org/event/2026-monterey-park-lunar-new-year-festival/
LOCATION:Downtown Monterey Park\, 123 S Lincoln Ave\, Monterey Park\, 91755\, United States
CATEGORIES:Community,Fundraising
ATTACH;FMTTYPE=image/jpeg:https://ajsocal.org/wp-content/uploads/2026/01/2026-Monterey-Park.jpg
END:VEVENT
END:VCALENDAR