BEGIN:VCALENDAR
VERSION:2.0
PRODID:-//Asian Americans Advancing Justice Southern California - ECPv6.15.20//NONSGML v1.0//EN
CALSCALE:GREGORIAN
METHOD:PUBLISH
X-WR-CALNAME:Asian Americans Advancing Justice Southern California
X-ORIGINAL-URL:https://ajsocal.org
X-WR-CALDESC:Events for Asian Americans Advancing Justice Southern California
REFRESH-INTERVAL;VALUE=DURATION:PT1H
X-Robots-Tag:noindex
X-PUBLISHED-TTL:PT1H
BEGIN:VTIMEZONE
TZID:America/Los_Angeles
BEGIN:DAYLIGHT
TZOFFSETFROM:-0800
TZOFFSETTO:-0700
TZNAME:PDT
DTSTART:20250309T100000
END:DAYLIGHT
BEGIN:STANDARD
TZOFFSETFROM:-0700
TZOFFSETTO:-0800
TZNAME:PST
DTSTART:20251102T090000
END:STANDARD
BEGIN:DAYLIGHT
TZOFFSETFROM:-0800
TZOFFSETTO:-0700
TZNAME:PDT
DTSTART:20260308T100000
END:DAYLIGHT
BEGIN:STANDARD
TZOFFSETFROM:-0700
TZOFFSETTO:-0800
TZNAME:PST
DTSTART:20261101T090000
END:STANDARD
BEGIN:DAYLIGHT
TZOFFSETFROM:-0800
TZOFFSETTO:-0700
TZNAME:PDT
DTSTART:20270314T100000
END:DAYLIGHT
BEGIN:STANDARD
TZOFFSETFROM:-0700
TZOFFSETTO:-0800
TZNAME:PST
DTSTART:20271107T090000
END:STANDARD
END:VTIMEZONE
BEGIN:VEVENT
DTSTART;TZID=America/Los_Angeles:20260411T090000
DTEND;TZID=America/Los_Angeles:20260412T160000
DTSTAMP:20260423T025200
CREATED:20260326T204001Z
LAST-MODIFIED:20260326T204001Z
UID:10007773-1775898000-1776009600@ajsocal.org
SUMMARY:2026 Songkran Festival Wat Thai of Los Angeles
DESCRIPTION:Join us at the 2026 Songkran Festival Wat Thai of Los Angeles. Enjoy beauty contest\, fashion shows\, performances\, Thai food\, shop for souvenirs\, and opportunities to engage with temple activities. Visit AJSOCAL information booth for free legal services during the event. We hope to see you there.
URL:https://ajsocal.org/event/2026-songkran-festival-wat-thai-of-los-angeles/
LOCATION:Wat Thai Temple\, 8225 Coldwater Canyon Ave\, North Hollywood\, CA\, 91605\, United States
CATEGORIES:Community,Fundraising
ATTACH;FMTTYPE=image/png:https://ajsocal.org/wp-content/uploads/2026/03/Songkran-Festival-2026-at-Wat-Thai-Los-Angeles-1.png
END:VEVENT
BEGIN:VEVENT
DTSTART;TZID=America/Los_Angeles:20260413T090000
DTEND;TZID=America/Los_Angeles:20260413T170000
DTSTAMP:20260423T025200
CREATED:20260401T230401Z
LAST-MODIFIED:20260401T230401Z
UID:10007775-1776070800-1776099600@ajsocal.org
SUMMARY:Mobile Legal Intake Help Desk with Garfield Health Center
DESCRIPTION:AJSOCAL is coming near you. Learn more about our Mobile Legal Intake Help Desk. Clients can apply for help with family law and domestic violence\, housing and lease issues\, and citizenship and green card renewals. Legal intake assistance only. No on-site legal consultation. Referrals may be provided when appropriate. Visit us on Monday April 13\, 2026 from 9am-5pm at Garfield Health Center Rowland Heights location\, 19138 E Walnut Dr N\, Rowland Heights CA 91748.
URL:https://ajsocal.org/event/mobile-legal-intake-help-desk-with-garfield-health-center/
LOCATION:GHC Rowland Heights\, 19138 E Walnut Dr\, Rowland Heights\, United States
CATEGORIES:Community,Fundraising
ATTACH;FMTTYPE=image/jpeg:https://ajsocal.org/wp-content/uploads/2026/04/04-13-GHC-MLIHD.jpg
END:VEVENT
BEGIN:VEVENT
DTSTART;TZID=America/Los_Angeles:20260418T090000
DTEND;TZID=America/Los_Angeles:20260418T150000
DTSTAMP:20260423T025200
CREATED:20260414T192137Z
LAST-MODIFIED:20260414T192202Z
UID:10007787-1776502800-1776524400@ajsocal.org
SUMMARY:17th Annual SGV Youth Summit with Pacific Clinics
DESCRIPTION:AJSOCAL will host a Know Your Rights workshop with Pacific Clinics at their 17th Annual SGV Youth Summit in Rosemead. This free community event is open to youth (grades 6-12) and will have fun workshops\, activities\, chance to win raffle prizes\, gift cards\, and more.
URL:https://ajsocal.org/event/17th-annual-sgv-youth-summit-with-pacific-clinics/
LOCATION:Richard Garvey Intermediate School\, 2720 Jackson Ave\, Rosemead\, CA\, 91770\, United States
CATEGORIES:Community,Fundraising
ATTACH;FMTTYPE=image/jpeg:https://ajsocal.org/wp-content/uploads/2026/04/04-13-GHC-MLIHD-1.jpg
END:VEVENT
BEGIN:VEVENT
DTSTART;TZID=America/Los_Angeles:20260505T180000
DTEND;TZID=America/Los_Angeles:20260505T200000
DTSTAMP:20260423T025200
CREATED:20260421T184257Z
LAST-MODIFIED:20260421T184257Z
UID:10007790-1778004000-1778011200@ajsocal.org
SUMMARY:Asian Youth Center AAPI Heritage Celebration and Recognition Ceremony
DESCRIPTION:Join us with Asian Youth Center (AYC) at the 4th annual AAPI Heritage Month Recognition Ceremonies and celebrations to honor community members\, youth\, and leaders for their contributions to advancing equity and culture.
URL:https://ajsocal.org/event/asian-youth-center-aapi-heritage-celebration-and-recognition-ceremony/
LOCATION:Blossom Market Hall\, 264 S Mission Dr\, San Gabriel\, CA\, 91776\, United States
CATEGORIES:Community,Fundraising
ATTACH;FMTTYPE=image/png:https://ajsocal.org/wp-content/uploads/2026/04/Image-2-1.png
END:VEVENT
BEGIN:VEVENT
DTSTART;TZID=America/Los_Angeles:20260516T100000
DTEND;TZID=America/Los_Angeles:20260516T150000
DTSTAMP:20260423T025200
CREATED:20260421T222839Z
LAST-MODIFIED:20260421T222914Z
UID:10007793-1778925600-1778943600@ajsocal.org
SUMMARY:Citizenship Clinic at Alhambra Library\, in celebration of APAHM
DESCRIPTION:Asian Americans Advancing Justice SOCAL will conduct a FREE in-person Citizenship Workshop with immigration attorneys and expert volunteers who speak Chinese\, Korean\, Khmer\, Tagalog\, Thai\, Vietnamese\, and Spanish and can provide assistance with: \n\nApplication completion (N-400)\nFee waivers (I-912) or Request for Reduced Fee\nStudy materials (100 Civics Questions)\n\nTo apply at this workshop\, please bring: \n\nGreen card\, social security card\, passport\, and driver’s license/state I.D.\nAddress and job/school history for the last 5 years\nList of ALL trips taken outside of the U.S. for the last 5 years\nInformation for ALL children under 18 years old and current/former spouses\nPlease bring an interpreter if you have one (friends/family is OK)\n\nTo qualify for a fee waiver\, please bring: \n2024 Tax Return (1040) OR recent Verification of Public Benefits Letter (e.g. Medi-Cal\, CalFresh\, CAPI\, CalWorks\, SSI\, etc.) \nAppointments are REQUIRED. Please call: (888) 349-9695 \nIf additional language support is needed\, please refer to the additional language hotlines for scheduling an appointment: \nENGLISH: (888) 349-9695\n普通话/广东话 (Chinese): (800) 520-2356\n한국어 (Korean): (800) 867-3640\nខ្មែរ (Khmer): (800) 867-3126\nTAGALOG (Filipino): (855) 300-2552\nहिन्दी (Hindi): (855) 971-2552\nภาษาไทย (Thai): (800) 914-9583\nTIẾNG VIỆT (Vietnamese): (714) 477-2958 \nVisit the online appointment link (N-400 only) \nIf you have any specific questions about AAAJ’s services\, text: (213) 973-6140
URL:https://ajsocal.org/event/citizenship-clinic-at-alhambra-library-in-celebration-of-apahm/
LOCATION:Alhambra Library\, 101 S. 1st St.\, Alhambra\, CA\, 91801\, United States
CATEGORIES:Community,Fundraising
ATTACH;FMTTYPE=image/jpeg:https://ajsocal.org/wp-content/uploads/2026/04/05-16-CITIZ-Clinic-Alhambra-Library.jpg
END:VEVENT
BEGIN:VEVENT
DTSTART;TZID=America/Los_Angeles:20260521T173000
DTEND;TZID=America/Los_Angeles:20260521T200000
DTSTAMP:20260423T025200
CREATED:20260305T230057Z
LAST-MODIFIED:20260305T230238Z
UID:10007766-1779384600-1779393600@ajsocal.org
SUMMARY:2026 Game Night
DESCRIPTION:Get ready for a night of fun\, friendly competition\, and community spirit!  \nWe’re excited to invite you to the 12th Annual Advancing Justice Southern California Game Night Fundraiser\, hosted by our fantastic Pro Bono Advisory Council (PBAC)\, on Thursday\, May 21 at 5:30 PM.  \nAfter the incredible energy of last year’s in-person event\, Game Night is back by popular demand! Join us in Century City for an evening filled with crowd favorites like Music Bingo\, Funny Feud\, and more interactive challenges that are sure to keep you on your toes.  \nLast year\, teams brought amazing enthusiasm and competitive spirit\, and we can’t wait to see that same excitement light up the room again this year!  \nIf you’re looking for a lively evening of networking\, laughter\, and meaningful impact\, this is the place to be. Together\, we’ll raise critical funds and awareness\, celebrate our outstanding 2025 volunteer and pro bono stars\, and kick off a year of exciting annual celebrations during Game Night.  \nWe hope you will support AJSOCAL by sponsoring this year’s Game Night Fundraiser. For sponsorship opportunities and to learn more about how to put a team together\, message our person of contact listed below. By visiting this link\, you can also register individually or donate to a specific peer (fundraiser or team)! We kindly ask for your response before Friday\, April 17\, 2026.  \nIf you have any questions\, please feel free to contact Nathan Vuong\, Volunteer Operations Analyst\, at nvuong@ajsocal.org.  \nWe can’t wait to see you there!  \n			\n				Click Here
URL:https://ajsocal.org/event/2026-game-night/
LOCATION:PBAC Game Night\, 2049 Century Park East\, Los Angeles\, 90067\, United States
CATEGORIES:Fundraising
ATTACH;FMTTYPE=image/png:https://ajsocal.org/wp-content/uploads/2026/03/2026-Register-Now.png
ORGANIZER;CN="AJSOCAL":MAILTO:communications@ajsocal.org
END:VEVENT
BEGIN:VEVENT
DTSTART;TZID=America/Los_Angeles:20260523T120000
DTEND;TZID=America/Los_Angeles:20260523T153000
DTSTAMP:20260423T025200
CREATED:20260421T185318Z
LAST-MODIFIED:20260421T185318Z
UID:10007791-1779537600-1779550200@ajsocal.org
SUMMARY:BPSOS-CCA Health Fair
DESCRIPTION:BPSOS-CCA is having a Community Health Fair 🏥 🩺💙👪\nCome join us and many of your community members for this free event with lots of family activities\, helpful resources\, free health check-ups\, fun games\, and amazing prizes!!\n📞Register at https://shorturl.at/E92nX or by calling 714-897-2214. 📄See flyers for more details.\n✨We’re excited to see you there!
URL:https://ajsocal.org/event/bpsos-cca-health-fair/
LOCATION:BPSOS Center for Community Advancement\,\, 13950 Milton Ave\, Westminster\, 92683\, United States
CATEGORIES:Community,Fundraising
ATTACH;FMTTYPE=image/png:https://ajsocal.org/wp-content/uploads/2026/04/05-23-BPSOS-CCA-Health-Fair-1.png
END:VEVENT
BEGIN:VEVENT
DTSTART;TZID=America/Los_Angeles:20260530T090000
DTEND;TZID=America/Los_Angeles:20260530T130000
DTSTAMP:20260423T025200
CREATED:20260422T205154Z
LAST-MODIFIED:20260422T205237Z
UID:10008167-1780131600-1780146000@ajsocal.org
SUMMARY:OC Family Preparedness & Passport Clinic with OC Clerk Recorders' Office
DESCRIPTION:Join us on Saturday\, May 30\, from 9 a.m. to 1 p.m. at our Anaheim office\, for an opportunity to get new U.S. passport services and passport photos for $7. To book your appointment\, please call 888.394.9695. We’re proud to being essential services directly into the community and making it easier for residents to access them.
URL:https://ajsocal.org/event/oc-family-preparedness-passport-clinic-with-oc-clerk-recorders-office/
LOCATION:Anaheim\, Anaheim\, United States
CATEGORIES:Community,Fundraising
ATTACH;FMTTYPE=image/jpeg:https://ajsocal.org/wp-content/uploads/2026/04/05-30-OC-Family-Preparedness-Passport-Clinic-with-OC-Clerk-Recorders-Office.jpg
END:VEVENT
BEGIN:VEVENT
DTSTART;TZID=America/Los_Angeles:20260531T123000
DTEND;TZID=America/Los_Angeles:20260531T160000
DTSTAMP:20260423T025200
CREATED:20260421T185830Z
LAST-MODIFIED:20260421T185916Z
UID:10007792-1780230600-1780243200@ajsocal.org
SUMMARY:One Book One Coast with George Takei
DESCRIPTION:LA County Library has partnered with over 190 other library systems in California\, Oregon\, and Washington State to host a multi-state community reading initiative that invites readers to engage with a shared text through discussion\, programs\, and reflection\, called One Book\, One Coast (OBOC). Our inaugural selection is They Called Us Enemy\, a graphic memoir by George Takei\, Justin Eisinger and Steven R. Scott. It recounts the Mr. Takei’s childhood years spent in the Japanese American internment camps during World War II. AJSOCAL will host a resource table before and after the event. We hope to see you there.
URL:https://ajsocal.org/event/one-book-one-coast-with-george-takei/
LOCATION:East Los Angeles Library\, 4837 E 3rd St\, Los Angeles\, CA\, 90022\, United States
CATEGORIES:Community,Fundraising
ATTACH;FMTTYPE=image/png:https://ajsocal.org/wp-content/uploads/2026/04/05-31-One-Book-One-Coast-with-George-Takei.png
END:VEVENT
BEGIN:VEVENT
DTSTART;TZID=America/Los_Angeles:20260610T173000
DTEND;TZID=America/Los_Angeles:20260610T190000
DTSTAMP:20260423T025200
CREATED:20260417T190643Z
LAST-MODIFIED:20260417T190746Z
UID:10007789-1781112600-1781118000@ajsocal.org
SUMMARY:2026 Jade Jubilee
DESCRIPTION:Celebrate and uplift the voices of the QTAPI community at the AAPI Queer Joy Coalition’s 3rd Jade Jubilee  \nJoin us as we celebrate our diverse and beautiful queer and trans API community\, our community partners\, and our 2026 official bill package.  \nThis year\, we’re proud to honor: LGBTQ Caucus Chair\, Assemblymember Christopher Ward with the Allyship Award and we’ll have performances from Sacramento’s fiercest QTAPI drag queens\, PrincessB and Lotus!  \nFood and non-alcoholic drinks will be provided for the first 80 attendees. Attendance at this event by a public official will constitute acceptance of a reportable gift.  \nThe AAPI Queer Joy Coalition was founded in 2024 and is a partnership between Asian Americans Advancing Justice Southern California (AJSOCAL)\, Hmong Innovating Politics (HIP)\, Lavender Phoenix\, Search to Involve Pilipinos (SIPA) and Vietnamese Rainbow of Orange County (VROC).  \n\n			\n				RSVP Here
URL:https://ajsocal.org/event/2026-jade-jubilee/
LOCATION:Cafeteria 15L\, 1116 15th Street\, Sacramento\, 95814\, United States
CATEGORIES:Community,Fundraising
ATTACH;FMTTYPE=image/png:https://ajsocal.org/wp-content/uploads/2026/04/Jade-Jubilee-Web-Graphic.png
ORGANIZER;CN="AJSOCAL":MAILTO:communications@ajsocal.org
END:VEVENT
END:VCALENDAR